BEGIN:VCALENDAR
VERSION:2.0
X-WR-TIMEZONE:Europe/Paris
PRODID:-//Audencia//NONSGML v1.0//EN
CALSCALE:GREGORIAN
BEGIN:VEVENT
SUMMARY:CCI France Chine Webinar: Human Resources: What models for tomorrow?
DTSTART:20210609T123000
DTEND:20210609T140000
UID:999
DTSTAMP:20260425T205910
LOCATION:
DESCRIPTION:\n\nAudencia, in partnership with the CCI FRANCE CHINE, has the pleasure to invite you to a webinar focusing on Human Resources models of the future. \n \n\n	\n		\n			\n			\n				\n					\n						  \n					\n					\n						\n						Introduction\n						\n					\n					\n						\n						Recruitment trends, talent retention, and transformational ways of working are three hot topics for recruiters today. How do these trends compare in Asia and Europe and what can we learn from each other?\n\n						Join us to discover the French multinational Capgemini’s vision on HR transformation, innovation, and disruption as well as the perspective of a new actor in the Chinese Executive Search, Horizon Consulting\n						\n					\n					\n						 \n					\n					\n						\n						Keypoints discussion\n						\n					\n					\n						\n						•  Recruitment trends\n						•  Talent retention\n						•  Transformational trends and new ways of working\n						\n					\n					\n						 \n					\n				\n			\n			\n		\n	\n\n\n\n	\n		\n			\n			Moderator\n			\n		\n		\n			 \n			\n			 \n			\n			Shyla Du Cosquer\n\n			International Career Consultant\n\n			Audencia\n			\n		\n		\n			 \n		\n		\n			\n			Shyla Du Cosquer is an international careers consultant within the Audencia Career Center. She has a background as a head hunter and recruiter in Asia and the United Kingdom. Her area of expertise includes highly selective recruitment methods and assessment centers. She herself has a full-time MBA from Audencia Business School\n			\n		\n		\n			 \n			 \n			 \n			 \n		\n		\n			\n			Speakers\n			\n		\n		\n			 \n			\n			 \n			\n			Sarah Ouada\n\n			Manager, People & Organizations\n\n			Capgemini and Audencia Alumni\n			\n		\n		\n			 \n		\n		\n			\n			Sarah Ouadah is Senior Manager in the Workforce & Organization practice of Capgemini Invent in France specialized in Change management, Data privacy, and HR projects. She has previous experience in the fields of Talent acquisition and Executive search in Africa and she supported the Global Head of Diversity of BNP Paribas. An engaged Alumni of Audencia Business School, Sarah has had an instrumental influence in the Women's Alumni association (Audencia pour Elles) and in the inclusion and diversity youth project (Audencia Brio).\n			\n		\n		\n			 \n			 \n			 \n			 \n		\n		\n			 \n			\n			 \n			\n			Eric Egiziano\n\n			Founder\n\n			HORIZON\n			\n		\n		\n			 \n		\n		\n			Founder of HORIZON in 2018, a Recruitment Agency, Eric has been a headhunter since 2007.\n			Formerly HR Manager in Paris, Brussels, and Taipei, Eric has been based in Shanghai since 2013 with his family, and originally comes from Marseille.\n		\n	\n\n \n\n\n	\n		\n			\n			\n				\n					\n						\n						INFORMATION\n						\n					\n					\n						\n						Date\n						\n					\n					\n						\n						Wednesday, June 9th\n						\n					\n					\n						 \n					\n					\n						\n						Time\n						\n					\n					\n						\n						18:30 - 20:00 (China Time)\n						12:30 - 14:00 (France Time)\n						\n					\n					\n						 \n					\n					\n						\n						Fees\n						\n					\n					\n						\n						CCI FRANCE CHINE Member & Audencia student and alumni: Free\n						\n					\n					\n						 \n					\n					\n						\n						Venue\n						\n					\n					\n						\n						Webinar - Online\n						\n					\n					\n						  \n					\n					\n						Language\n					\n					\n						\n						English\n						\n					\n					\n					\n				\n			\n			\n		\n		\n			 \n		\n	\n\n\n\n	\n		\n			\n			\n				\n					\n						\n						REGISTER ONLINE\n						\n					\n					\n						\n						\n							\n								\n									\n									Via WeChat\n									\n								\n							\n						\n\n						\n						\n					\n				\n			\n			\n		\n	\n
BEGIN:VALARM
ACTION:DISPLAY
TRIGGER:-PT60M
DESCRIPTION:CCI France Chine Webinar: Human Resources: What models for tomorrow?
END:VALARM
END:VEVENT
END:VCALENDAR