BEGIN:VCALENDAR
VERSION:2.0
X-WR-TIMEZONE:Europe/Paris
PRODID:-//Audencia//NONSGML v1.0//EN
CALSCALE:GREGORIAN
BEGIN:VEVENT
SUMMARY:AAGEF: online conference - Accenture's five tech trends that will reshape the world
DTSTART:20210526T180000
DTEND:20210526T200000
UID:996
DTSTAMP:20260425T205949
LOCATION:
DESCRIPTION:Stephen Gardiner is the Managing Director for Accenture Digital in Canada. In this role, Stephen helps many of Canada's leading companies digitally transform. Stephen works across a broad range of digital topics including business model transformation, customer experience, marketing transformation and how AI is reshaping the landscape. Stephen also has a passion for helping Youth find their way. He is the Chairman of the Board for NPower Canada, a highly successful non-profit workforce development organization that helps barriered youth get the skills they need to succeed. \n \n\nWHEN: Wednesday 26 May\nTIME: from 6:00pm local time\nWHERE: Online (zoom)\nREGISTER: Follow this link\n\n\nAgenda of this online event on zoom :\n\n\n	6.00 PM: Welcome \n	6.05 PM: Networking using Zoom breakout rooms\n	6.35 PM: Presentation\n	6.50 PM: Q&A\n	7.05 PM to 8.00 PM: Networking\n\n\n\nRegistration :  The zoom link and code will be sent the day before to those who registered. \n\n\n\n\nAAGEF Ontario includes alumni from the following Elite French Graduate Schools: Arts et Métiers Paris Tech, Audencia, Ecoles Centrales, EDHEC, EM Lyon, Grenoble Ecole de Management, ENA, ENS Normale Sup, ESSEC, ESCP Business School, INSEAD, Mines-Télécom, HEC Paris, Neoma Business School, Ecole  Polytechnique Paris, ENPC Paris Tech, Sciences Po Paris, Skema Business School, Supaéro,  Supélec , Agro Uniagro Paris Tech, ENSTA Paris Tech, Chimie Paris Tech, ENSAE Paris Tech, Sup Optique Paris Tech, ESPCI Paris Tech.
BEGIN:VALARM
ACTION:DISPLAY
TRIGGER:-PT60M
DESCRIPTION:AAGEF: online conference - Accenture's five tech trends that will reshape the world
END:VALARM
END:VEVENT
END:VCALENDAR