BEGIN:VCALENDAR
VERSION:2.0
X-WR-TIMEZONE:Europe/Paris
PRODID:-//Audencia//NONSGML v1.0//EN
CALSCALE:GREGORIAN
BEGIN:VEVENT
SUMMARY:Career Center Webinar : Activer son réseau pour trouver un job à impact positif
DTSTART:20210630T180000
DTEND:20260425T205818
UID:995
DTSTAMP:20260425T205818
LOCATION:
DESCRIPTION:Objectif : Découvrir des conseils pour activer son réseau dans le secteur de l'impact positif et commencer à le développer.\n \nDans cet atelier :\n- Vous découvrirez nos conseils pour activer votre réseau\n- Vous travaillerez sur les freins que vous avez à réseauter et trouverez des solutions grâce à l’intelligence collective\n- Vous développerez votre réseau durant l'atelier pour repartir avec des contacts\n\nModalités :\n2h en ligne \nCette session se déroulera sur Zoom \nVous recevrez le lien et le code d’entrée par mail le jour de la session\n 
BEGIN:VALARM
ACTION:DISPLAY
TRIGGER:-PT60M
DESCRIPTION:Career Center Webinar : Activer son réseau pour trouver un job à impact positif
END:VALARM
END:VEVENT
END:VCALENDAR