BEGIN:VCALENDAR
VERSION:2.0
X-WR-TIMEZONE:Europe/Paris
PRODID:-//Audencia//NONSGML v1.0//EN
CALSCALE:GREGORIAN
BEGIN:VEVENT
SUMMARY:Career Center Webinar : Quelles opportunités de carrière dans les entreprises à impact ?
DTSTART:20210616T180000
DTEND:20260425T205852
UID:994
DTSTAMP:20260425T205852
LOCATION:
DESCRIPTION:Objectif : Découvrir les opportunités de carrière créées par la transition écologique et connaître les attentes des recruteurs.\n \nDans cet atelier :\n- Vous aurez un aperçu de l'écosystème à impact et les offres d'emploi\n- Vous découvrirez les attentes des recruteurs\n- Vous repartirez avec des conseils sur la préparation de votre CV et de vos entretiens\n\nModalités :\n1h30 en ligne\nCette session se déroulera sur Zoom\nVous recevrez le lien et le code d’entrée par mail le jour de la session\n 
BEGIN:VALARM
ACTION:DISPLAY
TRIGGER:-PT60M
DESCRIPTION:Career Center Webinar : Quelles opportunités de carrière dans les entreprises à impact ?
END:VALARM
END:VEVENT
END:VCALENDAR