BEGIN:VCALENDAR
VERSION:2.0
X-WR-TIMEZONE:Europe/Paris
PRODID:-//Audencia//NONSGML v1.0//EN
CALSCALE:GREGORIAN
BEGIN:VEVENT
SUMMARY:Career Center Webinar : Aligner ses valeurs et sa vie professionnelle
DTSTART:20210602T180000
DTEND:20260425T205725
UID:993
DTSTAMP:20260425T205725
LOCATION:
DESCRIPTION:Objectif : Aligner vos valeurs et vos actions pour vous épanouir dans votre vie pro au quotidien\n\nDans cet atelier :\n- Vous aborderez la notion de “valeur” et ses caractéristiques\n- Vous identifierez vos valeurs fondamentales\n- Vous explorerez les pistes pour vivre vos valeurs au quotidien dans votre job ou à travers votre projet pro\n\nModalités :\n2h en ligne\nCette session se déroulera sur Zoom\nVous recevrez le lien et le code d’entrée par mail le jour de la session.\n 
BEGIN:VALARM
ACTION:DISPLAY
TRIGGER:-PT60M
DESCRIPTION:Career Center Webinar : Aligner ses valeurs et sa vie professionnelle
END:VALARM
END:VEVENT
END:VCALENDAR