BEGIN:VCALENDAR
VERSION:2.0
X-WR-TIMEZONE:Europe/Paris
PRODID:-//Audencia//NONSGML v1.0//EN
CALSCALE:GREGORIAN
BEGIN:VEVENT
SUMMARY:Career Center Webinar "A la découverte de votre voyage de vie"
DTSTART:20210601T180000
DTEND:20260425T223707
UID:992
DTSTAMP:20260425T223707
LOCATION:
DESCRIPTION:Outil issu des Pratiques Narratives en coaching, ce webinar vous permettra d’explorer comme dans un voyage les chemins parcourus, les chemins encore à parcourir, rencontrer vos compagnons de route, vos lieux ressources, les obstacles que vous avez surmontés… et de remplir votre kit de survie pour poursuivre votre voyage ! \n\nQue vous soyez à une étape de votre vie avec l’envie de prendre du recul, à la fin d’un cursus de formation, l’aube d’une nouvelle orientation, cet atelier vous permettra telle une boussole de vous accompagner pour avancer vers cette nouvelle destination.\n\nCet atelier sera interactif et chacun pourra partager ce qu’il souhaite dans le respect du collectif.\nIl est à noter que ce webinar sera une 1ère étape de la découverte de son voyage de vie et que ceux qui le souhaiteront pourront poursuivre en individuel avec un consultant formé à cette approche.\n\nCette session se tiendra sur Microsoft Teams : Cliquez ici pour rejoindre la réunion
BEGIN:VALARM
ACTION:DISPLAY
TRIGGER:-PT60M
DESCRIPTION:Career Center Webinar "A la découverte de votre voyage de vie"
END:VALARM
END:VEVENT
END:VCALENDAR