BEGIN:VCALENDAR
VERSION:2.0
X-WR-TIMEZONE:Europe/Paris
PRODID:-//Audencia//NONSGML v1.0//EN
CALSCALE:GREGORIAN
BEGIN:VEVENT
SUMMARY:Career Center Webinar : Mieux cerner l'écosystème des structures à impact positif
DTSTART:20210526T180000
DTEND:20260425T205947
UID:990
DTSTAMP:20260425T205947
LOCATION:
DESCRIPTION:Objectif : Mieux cerner l'écosystème et les tendances des entreprises et organisations à impact positif.\n\nDans ce webinaire interactif :\n- Vous décryptez l'écosystème : secteur de l'ESS, entrepreneuriat social, bénévolat, entreprises à missions...\n- Vous apprenez à vous repérer dans l'écosystème : labels responsables, job-boards\n- Vous posez toutes vos questions\n\nModalités :\n2h en ligne\nCette session se déroulera sur Zoom\nVous recevrez le lien et le code d’entrée par mail le jour de la session\n 
BEGIN:VALARM
ACTION:DISPLAY
TRIGGER:-PT60M
DESCRIPTION:Career Center Webinar : Mieux cerner l'écosystème des structures à impact positif
END:VALARM
END:VEVENT
END:VCALENDAR