BEGIN:VCALENDAR
VERSION:2.0
X-WR-TIMEZONE:Europe/Paris
PRODID:-//Audencia//NONSGML v1.0//EN
CALSCALE:GREGORIAN
BEGIN:VEVENT
SUMMARY:Les stratégies marketing des industriels du tabac
DTSTART:20171018T180000
DTEND:20171018T200000
UID:99
DTSTAMP:20260425T205906
LOCATION:MEDIACAMPUS 41 Boulevard de la Prairie au duc
DESCRIPTION:Conférence organisée par l'ANPAA et ARS des Pays de la Loire.\n\nLe marketing et la communication publicitaire déployées par l’industrie du tabac sont très efficaces pour inciter à consommer ce produit dont la dangerosité pour la santé n’est plus à démontrer.\n\nComment se concrétisent ces actions marketing et publicitaires ? Ont-elles vraiment une influence pour pousser les jeunes à fumer ?\n\nL'industrie du tabac s'efforce de lutter contre la dégradation progressive de l'image de la cigarette en multipliant les pistes de communication "underground" et parfois interdites par la loi pour maintenir une image normative et positive du tabac.\n\nLors de cette conférence, les spécialistes présenteront et décortiqueront ces actions publicitaires pour comprendre comment les industriels du tabac orientent leurs techniques commerciales pour séduire les jeunes et les attirer vers le tabac.\n\nCette conférence est assurée par Karine Gallopel Morvan (professeure des universités à l’Ecole des Hautes Etudes en Santé Publique - EHESP) accompagnée de trois étudiants.\n\nInscriptions par ici >> http://bit.ly/2hQfpp6
BEGIN:VALARM
ACTION:DISPLAY
TRIGGER:-PT60M
DESCRIPTION:Les stratégies marketing des industriels du tabac
END:VALARM
END:VEVENT
END:VCALENDAR