BEGIN:VCALENDAR
VERSION:2.0
X-WR-TIMEZONE:Europe/Paris
PRODID:-//Audencia//NONSGML v1.0//EN
CALSCALE:GREGORIAN
BEGIN:VEVENT
SUMMARY:Table-ronde "Cybersécurité, un enjeu autant humain que technologique !"
DTSTART:20210623T190000
DTEND:20210623T201500
UID:988
DTSTAMP:20260425T210121
LOCATION:
DESCRIPTION:\n \n\nChaque année, dans le monde, 978 millions de personnes sont concernées par une cyberattaque, selon le Ministère de l'Intérieur. 9 Français sur 10 ont déjà été confrontés à un acte de cybermalveillance et l'économie mondiale sera impactée à hauteur de 6000 milliards $ d'ici la fin de cette année.\n\n\n2020 a vu l’explosion de ce type d'attaques et les entreprises sont de plus en plus nombreuses à inscrire la cybersécurité dans leur stratégie globale.\nPour mieux comprendre les différentes attaques, leurs enjeux, leurs conséquences et les solutions apportées par certaines entreprises, nous vous invitons à la table-ronde du mercredi 23 juin à 19h, en distanciel, sur le thème :\n\nCybersécurité, \nun enjeu autant humain que technologique !\n\n\n\nAvec nos experts :\n \nCorentin Le Reun (GE 15), spécialiste de la cybersécurité chez Cisco, l'une des plus grandes sociétés technologiques de la Silicon Valley. Il sécurise ainsi les 5 plus grandes banques américaines depuis New-York. \n\n\n\nEmerson Gautier, I.T. Operations and Security Manager d’Audencia. Il a créé la cellule cybersécurité au sein de l'Ecole et a une grande expertise dans le domaine.\n\n\n\nEt notre modératrice :\n\n\nKatia Hérault (GE 01), auteure des portraits "Iconic Alumni". Elle animera cette soirée et posera les questions que tout le monde se pose !\n\n\n\nEn fin de la table-ronde, nos experts vous donneront quelques conseils importants de cybersécurité que vous pourrez appliquer tant sur un plan personnel que professionnel.\n\n \n\n- Inscription gratuite mais obligatoire -\nLe lien de connexion sera communiqué aux participants\n\nContact Audencia Alumni :\nLaëtitia Caliez, lcaliez@audencia.com\n \n\n \n\n
BEGIN:VALARM
ACTION:DISPLAY
TRIGGER:-PT60M
DESCRIPTION:Table-ronde "Cybersécurité, un enjeu autant humain que technologique !"
END:VALARM
END:VEVENT
END:VCALENDAR