BEGIN:VCALENDAR
VERSION:2.0
X-WR-TIMEZONE:Europe/Paris
PRODID:-//Audencia//NONSGML v1.0//EN
CALSCALE:GREGORIAN
BEGIN:VEVENT
SUMMARY:Moment d'échanges avec S.E. Rami Adwan, Ambassadeur du Liban en France
DTSTART:20210510T180000
DTEND:20260425T223736
UID:985
DTSTAMP:20260425T223736
LOCATION:
DESCRIPTION:S.E. Rami Adwan, Ambassadeur du Liban en France, a contacté les directrices et directeurs des Grandes Écoles afin de pouvoir apporter une aide et du soutien aux étudiants libanais des GE françaises actuellement confrontés à de grandes difficultés. \nCe moment d'échange avec S.E. Rami Adwan est également ouvert aux alumni afin de réfléchir ensemble et de trouver des solutions pour se mobiliser en faveur des étudiants libanais.\n\nVenez échanger (en français) avec S.E. Rami Adwan, Ambassadeur du Liban en France, lors d'une visioconférence ce lundi 10 mai à 18h00. \n\nUtilisez le lien suivant pour vous inscrire afin de recevoir un accès Zoom en amont de la conférence : \n \n>> Inscription << \n\n 
BEGIN:VALARM
ACTION:DISPLAY
TRIGGER:-PT60M
DESCRIPTION:Moment d'échanges avec S.E. Rami Adwan, Ambassadeur du Liban en France
END:VALARM
END:VEVENT
END:VCALENDAR