BEGIN:VCALENDAR
VERSION:2.0
X-WR-TIMEZONE:Europe/Paris
PRODID:-//Audencia//NONSGML v1.0//EN
CALSCALE:GREGORIAN
BEGIN:VEVENT
SUMMARY:CCI France Chine Event - Sports & Culture Working Group: Chinese Culture & Luxury Brands
DTSTART:20210520T120000
DTEND:20210520T150000
UID:984
DTSTAMP:20260425T205842
LOCATION:No. 4 Gongti North Road, Chaoyang District, Beijing, China
DESCRIPTION:\n	\n		\n			\n			CCI FRANCE CHINE is pleased to invite your to its next working group:\n			\n		\n		\n			 \n		\n		\n			\n			Sports & Culture Working Group\n\n			CHINESE CULTURE\n\n			AND LUXURY BRANDS\n\n			A fabulous 5000 year-long story\n			\n		\n	\n\n\n \n\nFor the new gathering of the CCI FRANCE CHINE Beijing Sports & Culture Working Group. Our expert speakers will share their experience and expectations of the future.\n\n5 luxury speakers from 5 different luxury fields will share their brands and vision. 5 speeches, 7 minutes each. We'll also taste their caviar, cosmetics, tea and wine.\n\nThis event will also be available as a webinar, the link will be sent to you after registration.\n \n\nDate & Time\n\n\nThursday, May 20th, 2021 \n18:00 - 21:00 Beijing Time\n13:00 - 14:30 Paris Time (for the webinar)\n\nVenue\n\n\nCCI France Chine Beijing Office\n\nSuites 201-222, 2F, Building 81, No 4 Gongti North Road， Chaoyang District, Beijing 100027, P.R.C\nThis event will also be available as a webinar, the link will be sent to you after registration.\n\nLanguage\n\n\nEnglish\n \n\nAgenda\n\n\n18:30 - 19:00: Welcome of the participants\n19:00 - 20:30: Conference & Webinar\n20:30 - 21:00: Q&A\n21:00: Cocktail\n\nSpeakers\n\n\nTim BLACKBURN China CEO, Swire Properties\nXindong CHENG Curator & Collector, Xindong Cheng Gallery\nMia LEI Founder and CEO, Miasuki\nXin-Yang LI Managing Director, DS China, Stellantis\nWilliam SHUM Founder and CEO, MEMORIGIN\nDean WINTER Managing Director, House Collective Hotels
BEGIN:VALARM
ACTION:DISPLAY
TRIGGER:-PT60M
DESCRIPTION:CCI France Chine Event - Sports & Culture Working Group: Chinese Culture & Luxury Brands
END:VALARM
END:VEVENT
END:VCALENDAR