BEGIN:VCALENDAR
VERSION:2.0
X-WR-TIMEZONE:Europe/Paris
PRODID:-//Audencia//NONSGML v1.0//EN
CALSCALE:GREGORIAN
BEGIN:VEVENT
SUMMARY:Webinar : Intro à OKR - La méthode de management de la Silicon Valley qui débarque en France
DTSTART:20210520T180000
DTEND:20210520T193000
UID:983
DTSTAMP:20260425T205813
LOCATION:
DESCRIPTION:\n\n \n\nIntro à OKR, la méthode de management de la Silicon Valley qui débarque en France\n \nLe mouvement OKR a été lancé chez Intel. Google a rendu le système populaire dans la Silicon Valley où elle est aujourd’hui la méthode de management de référence. D’autres utilisateurs d’OKR sont, par exemple, Spotify, Adobe, Facebook ou encore GE.\n\nEn France, des sociétés comme Renault, Ingenico, ou encore Natixis emboite le pas. Qu’a donc cette méthode de si spéciale pour séduire à la fois les jeunes start-ups comme les grands groupes ?\n\nC’est ce que nous verrons dans ce webinar d’introduction à OKR où Elie Casamitjana, fondateur et MD d’ikiom et expert OKR, nous présentera les fondamentaux de la méthode ainsi que l’OKR Forum France, premier événement francophone sur le sujet qu’il animera avec Sthree et dont Audencia Alumni est partenaire.\n \nSi vous souhaitez améliorer l’exécution collective et la mise en place de la stratégie ou que vous êtes intéressé par OKR, ce webinar est fait pour vous.\n\n \n\nAfin d'accéder au webinar le jour J : Cliquez ici pour rejoindre la réunion\n\n \nEt en attendant, voici un TED Talk de John Doerr (Early Investor Google) qui s’exprime sur OKR : https://www.youtube.com/watch?v=L4N1q4RNi9I&feature=youtu.be
BEGIN:VALARM
ACTION:DISPLAY
TRIGGER:-PT60M
DESCRIPTION:Webinar : Intro à OKR - La méthode de management de la Silicon Valley qui débarque en France
END:VALARM
END:VEVENT
END:VCALENDAR