BEGIN:VCALENDAR
VERSION:2.0
X-WR-TIMEZONE:Europe/Paris
PRODID:-//Audencia//NONSGML v1.0//EN
CALSCALE:GREGORIAN
BEGIN:VEVENT
SUMMARY:French Business School Alumni Rendez-Vous
DTSTART:20210515T080000
DTEND:20210515T110000
UID:982
DTSTAMP:20260425T205705
LOCATION:Interwest Business Center, No.9 Shouti South Road, Haidian District, Beijing, China
DESCRIPTION:\n\nDear Alumni,\n \n\nWith great pleasure and excitement, we invite you to a grand alumni gathering organised by:\n\nAUDENCIA, EDHEC, EMLYON, ESCP, KEDGE. \n\n[DATE & TIME]\nMay 15th, 2021. Saturday\n14:00 - 17:00 (Beijing Time)\n \n\nTo register, please scan the QR code.  \nPlaces are limited, first come first served! 
BEGIN:VALARM
ACTION:DISPLAY
TRIGGER:-PT60M
DESCRIPTION:French Business School Alumni Rendez-Vous
END:VALARM
END:VEVENT
END:VCALENDAR