BEGIN:VCALENDAR
VERSION:2.0
X-WR-TIMEZONE:Europe/Paris
PRODID:-//Audencia//NONSGML v1.0//EN
CALSCALE:GREGORIAN
BEGIN:VEVENT
SUMMARY:Club Culture & Management - Les clefs du succès d'une startup qui dure - "5 ans du PICEM"
DTSTART:20210518T190000
DTEND:20210518T210000
UID:981
DTSTAMP:20260425T205839
LOCATION:
DESCRIPTION:Réservez dès maintenant pour une soirée spéciale sur les 5 ans du prix Innovation Culture & Management (ex Start Up en Scène) autour du thème : les clés de succès d'une startup !\n\nVous pourrez interagir avec une startup lauréate du PICEM autour de la thématique de votre choix :\n\n\n	\n	Les secrets de la levée de fonds\n	\n	\n	Réussir à l'international\n	\n	\n	La crise actuelle, moteur de transformation du business model \n	\n\n\nCette soirée spéciale sera aussi l'occasion d'échanger avec les autres participants en cette saison où le networking nous manque tant !\n \n\nInformations et réservation\n\n \n\nMODALITÉS PRATIQUES\n\n\n	\n	Lors de votre inscription, indiquez la table ronde à laquelle vous souhaitez assister\n	\n	\n	Tarif unique à 10€\n	\n	\n	L'événement démarre à 19h\n	\n	\n	Après inscription, vous recevrez un lien Zoom dans l'heure précédant l'événement pour vous connecter\n	\n	\n	Votre micro sera coupé pour la plénière mais vous pourrez échanger librement lors des tables rondes\n	\n\n\n \n\nAu plaisir de vous retrouver,\n\nL'équipe de Culture & Management\n\n\n
BEGIN:VALARM
ACTION:DISPLAY
TRIGGER:-PT60M
DESCRIPTION:Club Culture & Management - Les clefs du succès d'une startup qui dure - "5 ans du PICEM"
END:VALARM
END:VEVENT
END:VCALENDAR