BEGIN:VCALENDAR
VERSION:2.0
X-WR-TIMEZONE:Europe/Paris
PRODID:-//Audencia//NONSGML v1.0//EN
CALSCALE:GREGORIAN
BEGIN:VEVENT
SUMMARY:Career Center Webinar "Linkedin : optimisez son potentiel pour votre projet professionnel !"
DTSTART:20210622T180000
DTEND:20260425T205954
UID:980
DTSTAMP:20260425T205954
LOCATION:
DESCRIPTION:Comment améliorer votre profil et construire un réseau efficace?\n\nAudencia Careers partage avec vous les secrets de LinkedIn pour optimiser vos chances de décrocher votre prochaine opportunité professionnelle. \nPour que LinkedIn n'ai plus de secret pour vous, inscrivez-vous à cet atelier !\n\n\nCette session se tiendra via Microsoft Teams :\nCliquez ici pour rejoindre la réunion 
BEGIN:VALARM
ACTION:DISPLAY
TRIGGER:-PT60M
DESCRIPTION:Career Center Webinar "Linkedin : optimisez son potentiel pour votre projet professionnel !"
END:VALARM
END:VEVENT
END:VCALENDAR