BEGIN:VCALENDAR
VERSION:2.0
X-WR-TIMEZONE:Europe/Paris
PRODID:-//Audencia//NONSGML v1.0//EN
CALSCALE:GREGORIAN
BEGIN:VEVENT
SUMMARY:Afterwork in Tokyo, Japan
DTSTART:20170929T193000
DTEND:20170929T203000
UID:98
DTSTAMP:20260425T205719
LOCATION:Tokyo chiyoda kanda nishikicho 3-21 chiyoda platform square
DESCRIPTION:Calling all alumni in Tokyo!\n\nLet's meet to finalise plans for events in the coming months\n \nDate: Friday 29th September\nMeeting: 19:30 to 20:30\nInformal drink: 20:30〜22:00\nPlace: Tokyo chiyoda kanda nishikicho 3-21 chiyoda platform square\n\nMap: https://goo.gl/maps/QaSx9XoKHDu\n \n 
BEGIN:VALARM
ACTION:DISPLAY
TRIGGER:-PT60M
DESCRIPTION:Afterwork in Tokyo, Japan
END:VALARM
END:VEVENT
END:VCALENDAR