BEGIN:VCALENDAR
VERSION:2.0
X-WR-TIMEZONE:Europe/Paris
PRODID:-//Audencia//NONSGML v1.0//EN
CALSCALE:GREGORIAN
BEGIN:VEVENT
SUMMARY:Career Center Webinar : Salary Negotiation
DTSTART:20210615T180000
DTEND:20260425T205901
UID:979
DTSTAMP:20260425T205901
LOCATION:
DESCRIPTION:You are about to look for your 1st job and want to know when to address THE salary question during a job interview ?\nFind out the vital do's and don'ts of salary negotiation during this workshop! \nInterview questions and styles may change from business to business however there are questions that are commonly known to be asked at most interviews.\n\nJoin the workshop to discover and train for these basic-must-know questions.\n\nPlease find below the link for the session via Microsoft Teams :\nCliquez ici pour rejoindre la réunion 
BEGIN:VALARM
ACTION:DISPLAY
TRIGGER:-PT60M
DESCRIPTION:Career Center Webinar : Salary Negotiation
END:VALARM
END:VEVENT
END:VCALENDAR