BEGIN:VCALENDAR
VERSION:2.0
X-WR-TIMEZONE:Europe/Paris
PRODID:-//Audencia//NONSGML v1.0//EN
CALSCALE:GREGORIAN
BEGIN:VEVENT
SUMMARY:Career Center Webinar : Se vendre : Si nous levions le tabou ?
DTSTART:20210608T180000
DTEND:20260425T205815
UID:978
DTSTAMP:20260425T205815
LOCATION:
DESCRIPTION:Vendre et plus encore se vendre, restent pour beaucoup une activité déplaisante, voire rebutante.\nPourquoi en avons-nous cette vision ? Y-a-t-il quelque chose d’inexact dans notre regard sur la vente ? Comment faire évoluer positivement notre regard sur cette notion et l’appréhender différemment ?\n\nC’est ce que nous vous proposons lors de ce webinar "Se vendre : si nous levions le tabou ?"\nA l’issue de celui-ci, vous aurez certainement envie de vendre et de vous vendre…\n\nVoici le lien de connexion :\nCliquez ici pour rejoindre la réunion 
BEGIN:VALARM
ACTION:DISPLAY
TRIGGER:-PT60M
DESCRIPTION:Career Center Webinar : Se vendre : Si nous levions le tabou ?
END:VALARM
END:VEVENT
END:VCALENDAR