BEGIN:VCALENDAR
VERSION:2.0
X-WR-TIMEZONE:Europe/Paris
PRODID:-//Audencia//NONSGML v1.0//EN
CALSCALE:GREGORIAN
BEGIN:VEVENT
SUMMARY:Career Center Webinar : Quels outils & solutions pour atteindre mes objectifs personnels ?
DTSTART:20210518T180000
DTEND:20260425T223706
UID:976
DTSTAMP:20260425T223706
LOCATION:
DESCRIPTION:Atteindre des objectifs en équipe, facile ! Atteindre des objectifs en solo, moins évident ? plus facile ? impossible ? interminable ? Comment expliquer cette différence et surtout comment y remédier ?\n\nUn webinaire pour trouver votre propre style de conduite de projet pour rester motivé même dans un contexte compliqué.\n\nCette session se tiendra via Microsoft Teams en vous connectant à ce lien :\nCliquez ici pour rejoindre la réunion\n 
BEGIN:VALARM
ACTION:DISPLAY
TRIGGER:-PT60M
DESCRIPTION:Career Center Webinar : Quels outils & solutions pour atteindre mes objectifs personnels ?
END:VALARM
END:VEVENT
END:VCALENDAR