BEGIN:VCALENDAR
VERSION:2.0
X-WR-TIMEZONE:Europe/Paris
PRODID:-//Audencia//NONSGML v1.0//EN
CALSCALE:GREGORIAN
BEGIN:VEVENT
SUMMARY:Career Center Webinar : Comment réussir son expatriation aux Etats-Unis ?
DTSTART:20210511T180000
DTEND:20260425T205717
UID:975
DTSTAMP:20260425T205717
LOCATION:
DESCRIPTION:Vivre à l’étranger, s’expatrier, vivre le rêve américain… Et si ce rêve devenait réalité ?\n\nUne expatriation est un projet qui se prépare, qui s’anticipe, qui nécessite de bien savoir où on veut aller et pourquoi. Que ce soit en solo, en couple ou en famille, il est important d’avoir un maximum de cartes en main pour réussir son expatriation.\n\nSi vous avez toujours rêvé de vivre le rêve américain et que vous êtes prêt à vous lancer dans une aventure pleine de rebondissements, retrouvez nous lors de ce webinaire sur l’expatriation.\n\nDans ce webinaire, La consultante vous partagera son expérience de coach carrière professionnelle et expatriée à New York aux USA depuis 2016.\n\nVous y trouverez un état des lieux du marché de l’emploi et les perspectives pour 2021/2022 aux Etats-Unis, des conseils pour bien préparer son départ et réussir son intégration, et nous finirons avec la trousse de survie de l’expatrié ou comment gérer les différences interculturelles et apprendre à se préparer à tous les scénarios.\n\nDéroulement :\n\n	Un état des lieux du marché de l’emploi et les perspectives pour 2021/2022 aux Etats-Unis\n	Les conseils pour bien préparer son départ\n	Les conseils pour réussir son intégration\n	La trousse de survie de l’expatrié - ou comment gérer les différences interculturelles et apprendre à se préparer à tous les scénarios\n\n\nCette session se tiendra via Microsoft Teams via ce lien :\nCliquez ici pour rejoindre la réunion
BEGIN:VALARM
ACTION:DISPLAY
TRIGGER:-PT60M
DESCRIPTION:Career Center Webinar : Comment réussir son expatriation aux Etats-Unis ?
END:VALARM
END:VEVENT
END:VCALENDAR