BEGIN:VCALENDAR
VERSION:2.0
X-WR-TIMEZONE:Europe/Paris
PRODID:-//Audencia//NONSGML v1.0//EN
CALSCALE:GREGORIAN
BEGIN:VEVENT
SUMMARY:Career Center Webinar : Les clés d’une démarche réseau réussie !
DTSTART:20210504T180000
DTEND:20260425T205952
UID:974
DTSTAMP:20260425T205952
LOCATION:
DESCRIPTION:Qui n’a jamais entendu parler de Networking ou de démarche réseau ? Vous souhaitez développer votre réseau ? Initier une démarche de networking ?\n\nQue ce soit pour trouver un job, obtenir des informations, bénéficier de conseils de professionnels…. Le réseau est essentiel pour saisir des opportunités.\n\nRencontrez un consultant Career Center qui vous apportera toutes les clés pour améliorer votre manière d'aborder la démarche réseau en partageant avec vous des conseils simples, émanant de professionnels du sujet tels que Daniel Porot et Steve Dalton.\n\nCette session se tiendra via Microsoft Teams via ce lien :\nCliquez ici pour rejoindre la réunion\n 
BEGIN:VALARM
ACTION:DISPLAY
TRIGGER:-PT60M
DESCRIPTION:Career Center Webinar : Les clés d’une démarche réseau réussie !
END:VALARM
END:VEVENT
END:VCALENDAR