BEGIN:VCALENDAR
VERSION:2.0
X-WR-TIMEZONE:Europe/Paris
PRODID:-//Audencia//NONSGML v1.0//EN
CALSCALE:GREGORIAN
BEGIN:VEVENT
SUMMARY:Conférence Isegoria by #Mediacampus / Raphaël Garrigos
DTSTART:20210427T183000
DTEND:20260425T211045
UID:973
DTSTAMP:20260425T211045
LOCATION:
DESCRIPTION:L'équipe d'Isegoria by #Mediacampus a le plaisir de vous inviter à sa prochaine conférence en compagnie de Raphaël Garrigos, journaliste et écrivain sur le thème :\n \nMédias indépendants en 2021 : la stratégie éditoriale, clé de leur pérennité ?\n\nIsegoria by #Mediacampus est un nouveau cycle de conférences virtuelles dépendant de l'association Isegoria et porté par les étudiants du programme Audencia SciencesCom. Diffusées en live à partir de la plateforme Twitch, ces rencontres s'intéressent aux évolutions et transformations de la communication et des médias tout en expérimentant de nouveaux formats de diffusion.\n \nACCEDEZ AU LIVE >\n\nRaphaël Garrigos est cofondateur et directeur de la rédaction du média indépendant "Les Jours".\n"Les Jours" est un média généraliste fondé en 2016, produisant à la fois des articles, des podcasts, des émissions live ainsi que d’autres innovations journalistiques. L’entreprise a été fondée par neufs associés dont le duo "Garriberts" formé par Raphaël Garrigos et Isabelle Roberts, auparavant connus pour leurs revues d’actualités médias dans le journal "Libération ". Leur site se distingue notamment par leur traitement de l’actualité : leurs enquêtes sont publiées sous forme de « séries », régulièrement mises à jour avec de nouveaux épisodes chroniquant l’évolution d’un sujet sur le temps long. \nCertaines de leurs séries sont ensuite publiées sous forme de livres en collaboration avec les éditions Le Seuil. L’une d’entre elles, "Les Revenants" sur le retour des djihadistes en France est lauréat du Prix Albert-Londres en 2017, récompense décernée aux meilleurs grands reporters francophones. \n"Les Jours" est un pure-player reposant sur les abonnements de ses lecteurs qui possèdent une partie du capital de l’entreprise détenue en  majorité  par  les 9 co-fondateurs du média. \n\nLa conférence portera donc sur l’état actuel du journalisme en ligne, les défis rencontrés et les perspectives d’avenir du domaine. \n\nNous vous invitons à partager ce temps d'échange avec Raphaël Garrigos, n'hésitez pas à en faire profiter votre entourage !\n\nÉvènement gratuit \nContact :events@audencia.com\n 
BEGIN:VALARM
ACTION:DISPLAY
TRIGGER:-PT60M
DESCRIPTION:Conférence Isegoria by #Mediacampus / Raphaël Garrigos
END:VALARM
END:VEVENT
END:VCALENDAR