BEGIN:VCALENDAR
VERSION:2.0
X-WR-TIMEZONE:Europe/Paris
PRODID:-//Audencia//NONSGML v1.0//EN
CALSCALE:GREGORIAN
BEGIN:VEVENT
SUMMARY:PARTICIPEZ À AUDENCIA TALENTS, LE SÉMINAIRE D'INTÉGRATION DES ÉTUDIANTS DE 1ÈRE ANNÉE !
DTSTART:20210510T120000
DTEND:20260425T205840
UID:971
DTSTAMP:20260425T205840
LOCATION:
DESCRIPTION:\nLe séminaire d'intégration des étudiants de 1ère année du Master Grande Ecole d'Audencia se profile. L'appel à candidature est lancé !\n\nAudencia Talents a lieu cette année entre le 7 et le 10 septembre auprès d'une promotion de plus 500 étudiants.\n\nCandidatez >\n\n\nLe concept\nPendant deux jours, les étudiants divisés en demi-promotion et répartis en groupes, apportent un regard neuf et des préconisations aux problématiques stratégiques RSE des entreprises participantes : transition écologique, transition sociétale, nouveaux usages, économie circulaire…\n \nPourquoi participer ?\n•    pour développer votre marque employeur,\n•    pour vous enrichir d’idées sur vos problématiques,\n•    pour capter des tendances et avoir la vision de vos futurs collaborateurs et clients,\n•    pour repérer des talents !\n\nLes étapes du séminaire \n•    compréhension de l'environnement de la marque \n•    phase de création individuelle\n•    brainstorming collectif pour proposer des concepts sans limites\n•    structuration des concepts et sélection d'idées\n•    présentation devant l'entreprise\n•    formalisation d'un livrable sous forme de podcast ou magazine\n\nModalités d'inscription\n•    envoyez votre candidature avant le 10 mai\n•    votre participation vous sera confirmée au plus tard le 27 mai à l’issue d’un comité de sélection qui évaluera la pertinence et l’intérêt des problématiques proposées.\nCandidatez >\n\nA noter \nLe format de l’événement (présentiel/distanciel) sera confirmé en fonction des possibilités liées au contexte sanitaire du moment.
BEGIN:VALARM
ACTION:DISPLAY
TRIGGER:-PT60M
DESCRIPTION:PARTICIPEZ À AUDENCIA TALENTS, LE SÉMINAIRE D'INTÉGRATION DES ÉTUDIANTS DE 1ÈRE ANNÉE !
END:VALARM
END:VEVENT
END:VCALENDAR