BEGIN:VCALENDAR
VERSION:2.0
X-WR-TIMEZONE:Europe/Paris
PRODID:-//Audencia//NONSGML v1.0//EN
CALSCALE:GREGORIAN
BEGIN:VEVENT
SUMMARY:Upcoming Masterclass: Succeed at the EFMD Global Virtual Fair
DTSTART:20210415T170000
DTEND:20210415T173000
UID:970
DTSTAMP:20260425T223651
LOCATION:
DESCRIPTION:Are you ready for the fair ?\nOn Thursday April 15th from 17:00-17:30 CEST, Dr. Amber Wigmore Alvarez, Chief Innovation Officer of Highered will lead a Masterclass relevant to the upcoming EFMD Global Virtual Fair. \n\nDuring the Masterclass, “Succeed at the EFMD Global Virtual Fair”, Dr. Amber Wigmore Alvarez will guide you through how to best navigate the fair, optimize employer connections during the event and make the most of all the activities happening throughout the week, along with briefly showing you how to utilize special calendar features to ensure you do not miss out!\n\nTo register:\nhttps://event.webinarjam.com/register/31/39rq8ul7\n\nTo register for the Highered Virtual Fair:\nhttps://lnkd.in/dxnRmmV 
BEGIN:VALARM
ACTION:DISPLAY
TRIGGER:-PT60M
DESCRIPTION:Upcoming Masterclass: Succeed at the EFMD Global Virtual Fair
END:VALARM
END:VEVENT
END:VCALENDAR