BEGIN:VCALENDAR
VERSION:2.0
X-WR-TIMEZONE:Europe/Paris
PRODID:-//Audencia//NONSGML v1.0//EN
CALSCALE:GREGORIAN
BEGIN:VEVENT
SUMMARY:AAGEF: online conference with the Ontario Minister of Finance
DTSTART:20210428T180000
DTEND:20210428T200000
UID:969
DTSTAMP:20260425T210008
LOCATION:
DESCRIPTION:Peter Bethlenfalvy is President of the Treasury Board, Minister of Finance, and Minister Responsible for Digital and Data Transformation. He was elected as MPP for Pickering—Uxbridge in 2018.\n\nMinister Bethlenfalvy is responsible for ensuring Ontario’s long-term fiscal sustainability and providing the fiscal firepower needed to protect the health and wellbeing of Ontarians in the face of COVID-19.\n\nHe holds both a Bachelor of Science and a Master of Business Administration from McGill University which included a year at the HEC School of Management, Paris, and a Master of Arts in Political Science from the University of Toronto.\n\nThe Minister’s remarks will be focused on the overall Budget narrative (5 minutes), followed by 10 minutes of Q&A session (feel free to send your questions ahead of time)\n \nWHEN: Wednesday 28 April\nTIME: from 6:00pm local time\nWHERE: Online (zoom)\nREGISTER: Follow this link\n\nAgenda of this online event on zoom :\n\n6:00 - Introduction\n6:05 - Minister's remark\n6:10 - Q/A session\n6:20 - Breakout Rooms (networking)\n8:00 - End of event\n\nThe zoom link and code will be sent the day before to those who have registered for the event.\n \n\n\nAAGEF Ontario includes alumni from the following Elite French Graduate Schools: Arts et Métiers Paris Tech, Audencia, Ecoles Centrales, EDHEC, EM Lyon, Grenoble Ecole de Management, ENA, ENS Normale Sup, ESSEC, ESCP Business School, INSEAD, Mines-Télécom, HEC Paris, Neoma Business School, Ecole  Polytechnique Paris, ENPC Paris Tech, Sciences Po Paris, Skema Business School, Supaéro,  Supélec , Agro Uniagro Paris Tech, ENSTA Paris Tech, Chimie Paris Tech, ENSAE Paris Tech, Sup Optique Paris Tech, ESPCI Paris Tech.\n\n 
BEGIN:VALARM
ACTION:DISPLAY
TRIGGER:-PT60M
DESCRIPTION:AAGEF: online conference with the Ontario Minister of Finance
END:VALARM
END:VEVENT
END:VCALENDAR