BEGIN:VCALENDAR
VERSION:2.0
X-WR-TIMEZONE:Europe/Paris
PRODID:-//Audencia//NONSGML v1.0//EN
CALSCALE:GREGORIAN
BEGIN:VEVENT
SUMMARY:Afterwork à Alger, Algérie
DTSTART:20210520T173000
DTEND:20210520T190000
UID:968
DTSTAMP:20260425T205720
LOCATION:Lieu à confirmer Alger
DESCRIPTION:A la suite des premiers échanges lors de la rencontre "online" d'Around the World, les participants actuels et passés à Alger ont envie de se rencontrer pour de vrai!\n \n\n	Mettez la date du jeudi 20 mai dans vos agendas\n	Partagez l'information avec vos camarades de promo\n	Inscrivez-vous ici sur Together\n\n\nEt l'équipe d'ambassadeurs alumni vous confirmeront tous les détails dès que possible (en fonction de la situation sanitaire bien entendu).\n\nA très vite,\nVos ambassadeurs alumni à Alger
BEGIN:VALARM
ACTION:DISPLAY
TRIGGER:-PT60M
DESCRIPTION:Afterwork à Alger, Algérie
END:VALARM
END:VEVENT
END:VCALENDAR