BEGIN:VCALENDAR
VERSION:2.0
X-WR-TIMEZONE:Europe/Paris
PRODID:-//Audencia//NONSGML v1.0//EN
CALSCALE:GREGORIAN
BEGIN:VEVENT
SUMMARY:Le Grand tour de l'égalité fait étape à Audencia le 16 avril !
DTSTART:20210416T140000
DTEND:20210416T170000
UID:966
DTSTAMP:20260425T210206
LOCATION:
DESCRIPTION:\nLa France présidera en juin 2021, à Paris, le sommet initié par ONU Femmes : le Forum Génération Égalité.\n\nCet événement diplomatique majeur rassemblera 60 chefs d'Etat et de gouvernement mobilisés pour régénérer la feuille de route féministe des Nations unies, adoptée il y a déjà plus de 25 ans lors de la Conférence de Pékin sur les droits des femmes.\n\nPour préparer cet événement de la diplomatie féministe avec les Françaises et les Français, l'Institut Open Diplomacy organise le Grand Tour #NotreGénérationÉgalité du 8 avril au 17 mai.\n\nCette opération est organisée en partenariat avec le Ministère de l'Europe et des Affaires étrangères et le Ministère chargé de l'Egalité entre les femmes et les hommes, de la Diversité et de l'Egalité des chances.   \n\nLe Grand Tour donne lieu à 15 conférences consultatives à travers tout le territoire.\n\nAudencia a le plaisir d'accueillir, en distanciel l'étape du 16 avril autour de Mme Olivia Grégoire, Secrétaire d'État chargée de l'Économie sociale, solidaire et responsable et en présence de : \n\n\n	Thomas Friang, Fondateur et Directeur général de l'Institut Open Diplomacy\n	Dr. Christophe Germain, Directeur général d'Audencia \n	Sarah El Hairy, Secrétaire d'État à la Jeunesse et à l'Engagement\n	Christine Naschberger, Professeure en ressources humaines à Audencia\n	Véronique Bourdeaux, Direction Régionale Grand Ouest, Natixis\n	Fanny Benedetti, Directrice exécutive d'ONU Femmes France\n	Anne Baumstimler, Fondatrice des AFFS (Les Ateliers Femmes et Féminisme)\n	Diariata N’Diaye, Fondatrice de l'association Resonantes\n	SEM Delphine O, Ambassadrice et Secrétaire générale du Forum Génération Égalité\n\nLe Grand tour est gratuit et ouvert à tous.\nNous vous invitons à vous inscrire aux différentes consultations qui se tiendront en distanciel, au vue des conditions sanitaires actuelles.\n\nSi vous avez des questions, nous vous invitons à nous contacter via l'email suivant : events@audencia.com.\n \n>> JE M'INSCRIS <<\n\n 
BEGIN:VALARM
ACTION:DISPLAY
TRIGGER:-PT60M
DESCRIPTION:Le Grand tour de l'égalité fait étape à Audencia le 16 avril !
END:VALARM
END:VEVENT
END:VCALENDAR