BEGIN:VCALENDAR
VERSION:2.0
X-WR-TIMEZONE:Europe/Paris
PRODID:-//Audencia//NONSGML v1.0//EN
CALSCALE:GREGORIAN
BEGIN:VEVENT
SUMMARY:French Ambassador meets France Alumni Ireland
DTSTART:20210413T180000
DTEND:20210413T190000
UID:965
DTSTAMP:20260425T205947
LOCATION:
DESCRIPTION:The French Ambassador to Ireland will meet France Alumni Ireland\n \n\n\nDate: Tuesday 13 April\nTime: 5pm (Irish time ) // 6pm (French time)\nVenue: Online (see registration link below)\n\nProgramme \nIntroduction of the event by H.E M.Vincent Guérend, Ambassador of France in Ireland.\n\nAmy Stapleton, having made a mobility in France within the framework of the high level scientific mobility grants, will speak to us about her experience in a laboratory of Lille.\n\nWe will also have the testimony of an English language assistant who came to France for 1 year to teach English in high school.\n\nFinally, we will have a presentation by Lucille Raynal, finalist of the My thesis in 3 minutes competition in 2020 and who will participate in the international final of the My thesis in 180 seconds competition in the fall of 2021 in Paris.\n\nFinally, we will present the new call for applications for high-level scientific mobility grants and language assistants. We will also present the 2021 Francophonie university programme to you and launch the new "Francophile" newsletter.\n \nRegister here\n\n\n
BEGIN:VALARM
ACTION:DISPLAY
TRIGGER:-PT60M
DESCRIPTION:French Ambassador meets France Alumni Ireland
END:VALARM
END:VEVENT
END:VCALENDAR