BEGIN:VCALENDAR
VERSION:2.0
X-WR-TIMEZONE:Europe/Paris
PRODID:-//Audencia//NONSGML v1.0//EN
CALSCALE:GREGORIAN
BEGIN:VEVENT
SUMMARY:Maroc - Visite du Musée de Bank Al Maghrib à Rabat
DTSTART:20210410T150000
DTEND:20210410T170000
UID:964
DTSTAMP:20260425T205952
LOCATION:Musée de Bank Al Maghrib 78, avenue Allal Ben Abdellah Rabat
DESCRIPTION:\n - Places limitées -\n\n\nA l'occasion de son 1er événement 2021, le chapter Maroc vous invite à une visite du musée de Bank Al Maghrib qui expose en ce moment l’œuvre du grand artiste peintre marocain Abbas Saladi :\n \n\nsamedi 10 avril à 15h à Rabat (durée : 1h30 à 2h)\n\n\nPour des raisons sanitaires, les visites guidées sont limitées à 10 personnes. Cette visite sera organisée avec le soutien et la présence de M. Otmane Amrani, Ambassadeur audencia alumni- du chapter Maroc. La priorité sera donnée aux Audenciens basés à Rabat.\n\n \nPour vous inscrire :\nMerci d’envoyer un e-mail à Yassine Belhoussain avant le jeudi 8 avril\nà l’adresse suivante : yassine.belhoussain@gmail.com\n \n\n
BEGIN:VALARM
ACTION:DISPLAY
TRIGGER:-PT60M
DESCRIPTION:Maroc - Visite du Musée de Bank Al Maghrib à Rabat
END:VALARM
END:VEVENT
END:VCALENDAR