BEGIN:VCALENDAR
VERSION:2.0
X-WR-TIMEZONE:Europe/Paris
PRODID:-//Audencia//NONSGML v1.0//EN
CALSCALE:GREGORIAN
BEGIN:VEVENT
SUMMARY:Highered online career fair
DTSTART:20210419T090000
DTEND:20210423T190000
UID:962
DTSTAMP:20260425T205705
LOCATION:
DESCRIPTION:Audencia will take part in the EFMD Global Virtual Fairs by Highered, as part of an exclusive network of top schools across the globe. The virtual fairs replicate a sophisticated job fair simulation environment that enables you to have real-time interaction, including one-to-one live chat with recruiters from leading companies and organisations, as well as video chat when enabled by certain recruiters. \n\nThe EFMD Global Virtual Fairs are open to both students and alumni, and will take place over the course of five days, from April 19-23. The event will feature multiple sector, profile and geographic-specific fairs all on a single platform in a pavilion-style format. \n\n \nWhat is there for you? \n\nThis is a great chance to introduce yourself to potential employers, meet with the recruiters and start applying to their opportunities, both local and international. \n\n \n\nYou can: \n\n\n	Visit the virtual booth of the companies/organizations \n	​Attend live webinars/presentations organized by companies/organizations \n	Live chat and interview with recruiters \n	Pitch your profile to recruiters as part of the “Pitch Perfect Challenge” \n\n\nEach day you will also have the opportunity to participate in networking sessions, live CV Clinics and the online Digital Conference with leading Careers speakers. \n\nFollow these steps to register for the EFMD Global Virtual Fairs: \n\n\n	 Sign-up to the Audencia's GetHighered platform. If you already have an account, simply log in.  \n	You need to be a verified student or alum to access the full features of your account. If the platform requests a “school email”, simply enter your school email for verification. \n	After verification and a successful login, you will see a “Virtual Events” option on the menu at the top of your screen. Click on “Virtual Events”.  \n	After clicking on “Virtual Events”, navigate to the event (The EFMD Global Virtual Fairs by Highered) and click on “Confirm your interest” to register. \n\n\nHow to prepare  \n\n\n	Upload your CV on the GetHighered platform under “My Page”  \n	Watch the Masterclass “Build your career portfolio with Highered “ recording to understand how the platform works here  \n	Follow Highered on social media to get more insights\n\n \n\nRegister today! \n\n \n\nA selection of participating companies includes:\nAB InBev, Roche Pharmaceuticals, Schneider Electric, Verizon, Bloomberg, UNDP United Nations Development Programme, Persado, PepsiCo\nand many more! \n\n \n\n
BEGIN:VALARM
ACTION:DISPLAY
TRIGGER:-PT60M
DESCRIPTION:Highered online career fair
END:VALARM
END:VEVENT
END:VCALENDAR