BEGIN:VCALENDAR
VERSION:2.0
X-WR-TIMEZONE:Europe/Paris
PRODID:-//Audencia//NONSGML v1.0//EN
CALSCALE:GREGORIAN
BEGIN:VEVENT
SUMMARY:Drinks & Dinner with Chapter Ho Chi Minh City
DTSTART:20210408T183000
DTEND:20210408T210000
UID:961
DTSTAMP:20260425T211248
LOCATION:Chanh Bistro Rooftop 215 Ly Tu Trong,  Ben Thanh Ward, District 1,  Ho Chi Minh City
DESCRIPTION:Its time to wine & dine.\n\nHuong Le is looking forward to catching up with Audencians in Ho Chi Minh City on Thursday 8 April at 6.30 pm (Vietnam time) at the restaurant Chanh Bistro Rooftop.\n\nRegister to reserve a seat at the table.
BEGIN:VALARM
ACTION:DISPLAY
TRIGGER:-PT60M
DESCRIPTION:Drinks & Dinner with Chapter Ho Chi Minh City
END:VALARM
END:VEVENT
END:VCALENDAR