BEGIN:VCALENDAR
VERSION:2.0
X-WR-TIMEZONE:Europe/Paris
PRODID:-//Audencia//NONSGML v1.0//EN
CALSCALE:GREGORIAN
BEGIN:VEVENT
SUMMARY:Frog's Cup after party in New York, USA
DTSTART:20171001T163000
DTEND:20171001T180000
UID:96
DTSTAMP:20260425T205716
LOCATION:Beaubourg terrace at Le District 225 Liberty Street New York
DESCRIPTION:Join us on Sunday Oct 1 at 4:30pm for the after party of the Frogs Cup Regatta on Beaubourg's terrace at Le District.\n \nEnjoy a glass of wine, oysters, and mingle with spirited sailors.  Madame la Consule will award prizes to the winners.\n \nA $25 minimum donation per person wil go towards supporting disaster relief efforts for the most in need Caribbean islands devastated by hurricane Irma and Maria.\n \nMake sure to register by following the link below to our PayPal donation button:\n \nRegister here: https://frenchamericanyc.org/events/\n \nThank you for your support !\n \nHP Beauchesne - HP@FrenchAmericanYC.org\nEdouard Ruelle - Edouard@FrenchAmericanYC.org\nAlain Bensimon - Alain@FrenchAmericanYC.org\nChristophe Duthoit\n \nOur mailing address is:\nFrench American Yacht Club\n340 East 64th Street, #2G\nNew York, NY 10065\n 
BEGIN:VALARM
ACTION:DISPLAY
TRIGGER:-PT60M
DESCRIPTION:Frog's Cup after party in New York, USA
END:VALARM
END:VEVENT
END:VCALENDAR