BEGIN:VCALENDAR
VERSION:2.0
X-WR-TIMEZONE:Europe/Paris
PRODID:-//Audencia//NONSGML v1.0//EN
CALSCALE:GREGORIAN
BEGIN:VEVENT
SUMMARY:Career Centre Webinar: Building successful careers in Europe
DTSTART:20210413T120000
DTEND:20210413T130000
UID:959
DTSTAMP:20260425T210023
LOCATION:
DESCRIPTION:\n\nBuilding successful careers in Europe \n\nFollowing the webinar on International Careers in China, and as part of a series of webinars organised for the SWUFE Chengdu students, the Career Center is pleased to share the webinar on Building Successful Careers in Europe. \n\nAlban Lepeu (GE 2011), Head of Pricing and Business Analysis at the world's largest luxury goods conglomerate LVMH, will share the keys to his successful career transition. From his early start in Singapore, his solid 7-year experience in the French multinational Carrefour, to managing a team working for worldwide brands Givenchy and Kenzo (LVMH). \n \n\nAgenda  \n\n \n\n\n	\n	Overview of a career in top French companies \n	\n	\n	Tips to craft a career path in LVMH \n	\n	\n	Focus on the job: Pricing Analyst \n	\n	\n	Q&A  \n	 \n	\n\n\nClick here to join the webinar. 
BEGIN:VALARM
ACTION:DISPLAY
TRIGGER:-PT60M
DESCRIPTION:Career Centre Webinar: Building successful careers in Europe
END:VALARM
END:VEVENT
END:VCALENDAR