BEGIN:VCALENDAR
VERSION:2.0
X-WR-TIMEZONE:Europe/Paris
PRODID:-//Audencia//NONSGML v1.0//EN
CALSCALE:GREGORIAN
BEGIN:VEVENT
SUMMARY:Club Marketing & Digital - Masterclass "De la communication durable à la communication RSE"
DTSTART:20210429T180000
DTEND:20210429T193000
UID:958
DTSTAMP:20260425T210027
LOCATION:
DESCRIPTION:Club Marketing & Digital vous invite à une masterclass "De la communication durable à la communication RSE" le jeudi 29 avril à 18h.\n\nTransition écologique, responsabilité sociale et sociétale… 2021 sera-t-elle une année charnière pour une RSE désormais incontournable dans les entreprises ? \nMais quelles sont les spécificités de la communication RSE, ses pré-requis, et comment la mettre en œuvre sans tomber dans le greenwashing ? \n \nJulien Durand est un professionnel de la communication spécialisé sur des sujets de communication RSE, après un parcours de 20 ans chez l’annonceur (Boutiques Aéroports de Paris) et en agences de communication corporate et RSE. Il enseigne également la communication RSE aux professionnels et aux étudiants.\n \nAu cours de cette masterclass, nous aborderons avec lui :\n- Les éléments qui distinguent la communication "RSE" de la communication dite "classique", ses origines, ses prés-requis pour qu'elle fonctionne et éviter le greenwashing.\n- Ce que cela induit concrètement comme changement et responsabilité pour l'entreprise qui décide de s'y confronter mais aussi les bénéfices qu'elle peut en tirer.\n- Et surtout en quoi, pour nous communicants, cela modifie nos pratiques et vient définir un nouveau rôle.\n \nVenez nombreux pour échanger avec lui et partager vos propres expériences.\n\nCo-animée par \n\n\nBrigitte Neveu-Dérotrie (GE 85), animatrice du Club Marketing & Digital, fondatrice de Yélen communication (Conseil & formations réseaux sociaux B2B, Digital branding & communication d'entreprise)
BEGIN:VALARM
ACTION:DISPLAY
TRIGGER:-PT60M
DESCRIPTION:Club Marketing & Digital - Masterclass "De la communication durable à la communication RSE"
END:VALARM
END:VEVENT
END:VCALENDAR