BEGIN:VCALENDAR
VERSION:2.0
X-WR-TIMEZONE:Europe/Paris
PRODID:-//Audencia//NONSGML v1.0//EN
CALSCALE:GREGORIAN
BEGIN:VEVENT
SUMMARY:Audencia Around the World 2021: the journey heads to Ontario!
DTSTART:20210331T180000
DTEND:20210331T200000
UID:957
DTSTAMP:20260425T210045
LOCATION:
DESCRIPTION:Audencia Around the World is going to network in Ontario!\nAAGEF is pleased to invite Audencians to an evening of presentations and networking.\n\nJoin the event on Wednesday 31 March at 6pm Ontario local time (11pm in France!)\n\nThe Cannabis Industry in North America\n\nwith guest speaker: Veronique Hamel, General Manager, Terrascend Canada\n\nAgenda (on zoom):\n\n	6:00 to 6:30 - Breakout Rooms (networking)\n	6:30 to 6:50 - Presentation\n	6:50 to 7:10 - Q/A session\n	7:10 to 8:00 - Breakout Rooms (networking)\n\n \n\nFOR MORE INFORMATION & TO REGISTER\n\n\nThe zoom link and code will be sent the day before to those who registered.\n\nAAGEF Ontario is the Elite French Graduate Schools Alumni Association working and living in Ontario. This is the equivalent of the Ivy League from the very best Graduate Schools in France.\n \n\n\nAAGEF Ontario includes alumni from the following Elite French Graduate Schools: Arts et Métiers Paris Tech, Audencia, Ecoles Centrales, EDHEC, EM Lyon, Grenoble Ecole de Management, ENA, ENS Normale Sup, ESSEC, ESCP Business School, INSEAD, Mines-Télécom, HEC Paris, Neoma Business School, Ecole  Polytechnique Paris, ENPC Paris Tech, Sciences Po Paris, Skema Business School, Supaéro,  Supélec , Agro Uniagro Paris Tech, ENSTA Paris Tech, Chimie Paris Tech, ENSAE Paris Tech, Sup Optique Paris Tech, ESPCI Paris Tech.\n\n 
BEGIN:VALARM
ACTION:DISPLAY
TRIGGER:-PT60M
DESCRIPTION:Audencia Around the World 2021: the journey heads to Ontario!
END:VALARM
END:VEVENT
END:VCALENDAR