BEGIN:VCALENDAR
VERSION:2.0
X-WR-TIMEZONE:Europe/Paris
PRODID:-//Audencia//NONSGML v1.0//EN
CALSCALE:GREGORIAN
BEGIN:VEVENT
SUMMARY:Audencia Around the World 2021: the journey continues in Baku
DTSTART:20210327T150000
DTEND:20210327T160000
UID:955
DTSTAMP:20260425T210031
LOCATION:
DESCRIPTION:\n\n\nAudencia Around the World: the journey continues in Baku\nJoin Audencians in Baku for an informal meet. Its' time to catch up!\n\n\n\n	Date: Saturday 27 March 2021\n	Time: 18:00 onwards (Baku time) 15:00 onwards (Paris time)\n	Venue: Zoom/Teams\n\nMore details will follow soon!\n\nTo discover other cities which are hosting an Around the World event, click on the image below\n\n\n \nQuestions? : nushad.merchant@audencia.com\n \n\nWe have two more messages to share with you:\nDon't go yet!\n\nAudencia Foundation's call for solidarity\n\n\n\nNow, more than ever, our international students are in need of critical financial support.\nMake a donation during AATW to help pay living expenses for a struggling student.\nYour donation, in any amount, shows your solidarity with our students who are building the world of tomorrow.\nOur network is our greatest strength!\nFor more information\n\nAround the World photo booth\nDrop by, create your avatar, take your picture, send it/share it, and feature on the group photo that will be published at the end of the event!\nFollow this link\n\n\n
BEGIN:VALARM
ACTION:DISPLAY
TRIGGER:-PT60M
DESCRIPTION:Audencia Around the World 2021: the journey continues in Baku
END:VALARM
END:VEVENT
END:VCALENDAR