BEGIN:VCALENDAR
VERSION:2.0
X-WR-TIMEZONE:Europe/Paris
PRODID:-//Audencia//NONSGML v1.0//EN
CALSCALE:GREGORIAN
BEGIN:VEVENT
SUMMARY:Audencia Around the World 2021: the journey continues in Cambodia
DTSTART:20210329T140000
DTEND:20210329T150000
UID:954
DTSTAMP:20260425T210050
LOCATION:
DESCRIPTION:\n\n\nAudencia Around the World: the journey continues in Cambodia\nJoin Audencians in Cambodia for an online Zoom session. Its' time to catch up virtually!\n\n\n\n	Date: Monday 29 March 2021\n	Time: 20:00 onwards (Phnom Penh time) 14:00 onwards (Paris time)\n	Venue: Zoom \n\n\nRegistration is compulsory to get the Zoom link\nTo discover other cities which are hosting an Around the World event, click on the image below\n\n\n \n\nQuestions? : nushad.merchant@audencia.com\n \n\nWe have two more messages to share with you:\nDon't go yet!\n\n\n \n\nAudencia Foundation's call for solidarity\n \n\n \n\n\n\n\nNow, more than ever, our international students are in need of critical financial support.\nMake a donation during AATW to help pay living expenses for a struggling student.\nYour donation, in any amount, shows your solidarity with our students who are building the world of tomorrow.\nOur network is our greatest strength!\nFor more information\n\n\nAround the World photo booth\nDrop by, create your avatar, take your picture, send it/share it, and feature on the group photo that will be published at the end of the event!\nFollow this link\n\n\n\n \n
BEGIN:VALARM
ACTION:DISPLAY
TRIGGER:-PT60M
DESCRIPTION:Audencia Around the World 2021: the journey continues in Cambodia
END:VALARM
END:VEVENT
END:VCALENDAR