BEGIN:VCALENDAR
VERSION:2.0
X-WR-TIMEZONE:Europe/Paris
PRODID:-//Audencia//NONSGML v1.0//EN
CALSCALE:GREGORIAN
BEGIN:VEVENT
SUMMARY:Audencia Around the World 2021: the journey continues in San Francisco
DTSTART:20210327T210000
DTEND:20210327T230000
UID:953
DTSTAMP:20260425T210012
LOCATION:Surfers Beach 4000 Cabrillo Hwy N Half Moon Bay, CA 94019 United States
DESCRIPTION:\n\nJoin us for a beach clean-up in collaboration with the Surfrider Foundation\n\nDate: Saturday 27 March\nTime: 1:00-3:00 PM PST\nVenue: Half Moon Bay!\n\nPlease wear a mask and bring your own gloves and fun spirit!\n \nWhere to meet:\nSurfers Beach\n\n4000 Cabrillo Hwy N\nHalf Moon Bay, CA 94019\n \n\nTo discover other cities which are hosting an Around the World event, click on the image below\n \n\n\n\n \n\n\nDon't go yet!\nWe have two more messages to share with you:\n\nAudencia Foundation's call for solidarity\n\n\n\n\nNow, more than ever, our international students are in need of critical financial support.\nMake a donation during AATW to help pay living expenses for a struggling student.\nYour donation, in any amount, shows your solidarity with our students who are building the world of tomorrow.\nOur network is our greatest strength!\nFor more information\n\nAround the World photo booth\nDrop by, create your avatar, take your picture, send it/share it, and feature on the group photo that will be published at the end of the event!\nFollow this link\n\n
BEGIN:VALARM
ACTION:DISPLAY
TRIGGER:-PT60M
DESCRIPTION:Audencia Around the World 2021: the journey continues in San Francisco
END:VALARM
END:VEVENT
END:VCALENDAR