BEGIN:VCALENDAR
VERSION:2.0
X-WR-TIMEZONE:Europe/Paris
PRODID:-//Audencia//NONSGML v1.0//EN
CALSCALE:GREGORIAN
BEGIN:VEVENT
SUMMARY:Audencia Around the World 2021: the journey continues in Amsterdam
DTSTART:20210331T200000
DTEND:20210331T210000
UID:952
DTSTAMP:20260425T205734
LOCATION:
DESCRIPTION:\n \n\nAudencia Around the World: the journey continues in Amsterdam\n\nDrankjes, hapjes, feesthoedjes! ???\n\nJust bring something to drink, to snack or something to place on the top of your head (let us see the most beautiful hat you got)!\nAnd connect via the app Houseparty at 8 P.M. on Wednesday 31 March to celebrate with us the 3rd edition of Audencia Around the World with the Alumni of Amsterdam!\n\nTo dowload the App Houseparty: Click here\n\nAmenez de quoi vous désaltérer, de quoi grignoter et de quoi vous couvrir le chef (votre plus beau chapeau)!\nEt connectez-vous à Houseparty à 20h le mercredi 31 mars pour fêter la 3ème édition de Audencia Around The World avec les Alumni du Chapter Amsterdam !\n\nPour télécharger l'application Houseparty: cliquez ici\n\n\n\n	Date: Wednesday 31 March 2021\n	Time: from 20:00 to 21:00\n	Venue: Online  \n\n\nTo discover other cities which are hosting an Around the World event, click on the image below\n\n \n\nDon't go yet!\nWe have two more messages to share with you:\n\nAudencia Foundation's call for solidarity\n \n\n\n\nNow, more than ever, our international students are in need of critical financial support.\nMake a donation during AATW to help pay living expenses for a struggling student.\nYour donation, in any amount, shows your solidarity with our students who are building the world of tomorrow.\nOur network is our greatest strength!\n\nFor more information\n\nAround the World photo booth\n\nDrop by, create your avatar, take your picture, send it/share it, and feature on the group photo that will be published at the end of the event!\nFollow this link\n\n
BEGIN:VALARM
ACTION:DISPLAY
TRIGGER:-PT60M
DESCRIPTION:Audencia Around the World 2021: the journey continues in Amsterdam
END:VALARM
END:VEVENT
END:VCALENDAR