BEGIN:VCALENDAR
VERSION:2.0
X-WR-TIMEZONE:Europe/Paris
PRODID:-//Audencia//NONSGML v1.0//EN
CALSCALE:GREGORIAN
BEGIN:VEVENT
SUMMARY:Audencia Around the World 2021: the journey continues in Geneva
DTSTART:20210330T183000
DTEND:20210330T193000
UID:951
DTSTAMP:20260425T205908
LOCATION:
DESCRIPTION:\n\nAudencia Around the World: the journey continues in Geneva\n\nBonjour à toutes et tous,\n\nAmatrice ou amateur de vins ? Gourmet ? Ou simplement curieux d’en connaître davantage sur le terroir suisse ?\n\nNous avons le plaisir de vous convier à une heure de Live en compagnie de Vincent Debergé, talentueux sommelier, formé dans de grandes maisons étoilées telles que le George V à Paris ou le Relais de la Poste à Magescq.\n\n\n\nVincent est un grand passionné, il partage une sacrée dose de connaissances avec aisance, accessibilité !\n\n\n\nRejoignez-nous en ligne, en direct live du Caveau de Bacchus, un bar à vin où les grands crus bordelais et les trésors bourguignons côtoient en toute quiétude des flacons des Grisons.\n\nSi vous souhaitez vous procurer les crus qui seront degustés et expliqués, voici la liste:\n?Dezaley 2017 Bovard à 33 chf // Vaud\n?Petite Arvine Deletraz 2018 à 38 chf // Valais\n?Gamaret 2018 Hutins à 25 chf // Genève\n?Pinot Noir 2018 Wegelin à 32 chf //Grisons\n\nNous vous attendons nombreux et nombreuses le mardi 30 mars prochain à partir de 18h30.\n\nN'oubliez pas de vous inscrire!\n\nPour nous retrouver directement mardi:\nCliquez ici pour rejoindre la réunion\n\n\n\n	Date: Tuesday 30 March 2021\n	Time: from 18:30 to 19:30\n	Venue: Online       \n\n\nTo discover other cities which are hosting an Around the World event, click on the image below\n
BEGIN:VALARM
ACTION:DISPLAY
TRIGGER:-PT60M
DESCRIPTION:Audencia Around the World 2021: the journey continues in Geneva
END:VALARM
END:VEVENT
END:VCALENDAR