BEGIN:VCALENDAR
VERSION:2.0
X-WR-TIMEZONE:Europe/Paris
PRODID:-//Audencia//NONSGML v1.0//EN
CALSCALE:GREGORIAN
BEGIN:VEVENT
SUMMARY:Audencia Around the World 2021: the journey continues in Sydney
DTSTART:20210327T040000
DTEND:20210327T060000
UID:950
DTSTAMP:20260425T223738
LOCATION:STRIKE KING STREET WHARF 22 The Promenade King Street Wharf Sydney New South Wales, 2000
DESCRIPTION:To mark the Sydney stopover of the Around the World journey, Audencia Alumni there are going bowling.\n\nAlign, adjust and go for those strikes and baby splits... join them on Saturday 27 March at 2pm Sydney time at:\nSTRIKE KING STREET WHARF\n22 The Promenade\nKing Street Wharf\nSydney\n \n\nTo discover other cities which are hosting an Around the World event, click on the image below\n \n\n\n\n \n\n\nDon't go yet!\nWe have two more messages to share with you:\n\nAudencia Foundation's call for solidarity\n\n\n\n\nNow, more than ever, our international students are in need of critical financial support.\nMake a donation during AATW to help pay living expenses for a struggling student.\nYour donation, in any amount, shows your solidarity with our students who are building the world of tomorrow.\nOur network is our greatest strength!\nFor more information\n\nAround the World photo booth\nDrop by, create your avatar, take your picture, send it/share it, and feature on the group photo that will be published at the end of the event!\nFollow this link\n\n
BEGIN:VALARM
ACTION:DISPLAY
TRIGGER:-PT60M
DESCRIPTION:Audencia Around the World 2021: the journey continues in Sydney
END:VALARM
END:VEVENT
END:VCALENDAR