BEGIN:VCALENDAR
VERSION:2.0
X-WR-TIMEZONE:Europe/Paris
PRODID:-//Audencia//NONSGML v1.0//EN
CALSCALE:GREGORIAN
BEGIN:VEVENT
SUMMARY:Afterwork in Ho Chi Minh City, Vietnam
DTSTART:20171005T200000
DTEND:20171005T210000
UID:95
DTSTAMP:20260425T223845
LOCATION:Layla - Eatery & Bar Second Floor, 63 Đông Du, Quận 1, Bến Nghé Ho Chi Minh City Vietnam
DESCRIPTION:On the occasion of Yombo Rahman's visit to Ho Chi Minh City, come and meet her for an afterwork reunion on Thursday 5th October from 20.00 at\n\n \nLayla - Eatery & Bar\nSecond Floor, 63 Đông Du, Quận 1, Bến Nghé\nHo Chi Minh City\n \n\nThis will be a great opportunity for you to catch up with the latest news from Audencia!
BEGIN:VALARM
ACTION:DISPLAY
TRIGGER:-PT60M
DESCRIPTION:Afterwork in Ho Chi Minh City, Vietnam
END:VALARM
END:VEVENT
END:VCALENDAR