BEGIN:VCALENDAR
VERSION:2.0
X-WR-TIMEZONE:Europe/Paris
PRODID:-//Audencia//NONSGML v1.0//EN
CALSCALE:GREGORIAN
BEGIN:VEVENT
SUMMARY:Webinar - Be part of the companies who thrive in 2021: Grow and transform with EDB
DTSTART:20210419T080000
DTEND:20210420T090000
UID:949
DTSTAMP:20260425T205955
LOCATION:
DESCRIPTION:Join French Chamber Singapore to hear about how French companies can grow and expand in Asia and learn how EDB could support you in your journey!\n\nSingapore has always been a business friendly destination for Foreign Investors looking to develop and thrive in Asia. As a CFO or Business leader, you will have an introduction on how Singapore, via Singapore Economic Development Board (EDB) or other government agencies, may help you to achieve your ambitions and long term growth in the region\n\nThis session will be an overview of all you need to know about :\n\n\n	\n	Support schemes from EDB and other government agencies\n	\n	\n	Talent attraction and development\n	\n	\n	Sustainability initiatives\n	\n	\n	Supply Chain Management from Singapore\n	\n\n\nSpeakers\n\n\n	\n	Marianne Tan, Regional Director Europe at EDB\n	\n\n\n\n	\n	Herman Loh, Vice President and Head of Regional Partnerships at EDB\n	\n\n\n\nTerms & Conditions\n\n\n	\n	By registering to this event, you agree to receive from the French Chamber Singapore and EDB future invitations to events and market studies.\n	\n\n\nRegister here\n\n 
BEGIN:VALARM
ACTION:DISPLAY
TRIGGER:-PT60M
DESCRIPTION:Webinar - Be part of the companies who thrive in 2021: Grow and transform with EDB
END:VALARM
END:VEVENT
END:VCALENDAR