BEGIN:VCALENDAR
VERSION:2.0
X-WR-TIMEZONE:Europe/Paris
PRODID:-//Audencia//NONSGML v1.0//EN
CALSCALE:GREGORIAN
BEGIN:VEVENT
SUMMARY:Club Culture & Management - Cycle "ESSC économie sociale, solidaire et culturelle"
DTSTART:20210414T190000
DTEND:20210414T200000
UID:948
DTSTAMP:20260425T210012
LOCATION:
DESCRIPTION:Fin de notre cycle "Économie Sociale, Solidaire et Culturelle" mercredi 14 avril avec un second débat sur les tiers-lieux !\n\nEstimés à quelques milliers dans toute la France, il existe plusieurs sortes de tiers-lieux : économiques type coworking, d'innovation type fablab, sociaux ou encore culturels.\n\nEn quoi les tiers-lieux font-ils émerger une nouvelle forme de culture plus ouverte et participative ?\n\nVenez en débattre avec :\n\n\n	\n	Maud Le Floc'h, directrice et fondatrice du POLAU-pôle arts & urbanisme\n	\n\n\n\n	\n	Bernard Latarjet, conseiller culturel et auteur d’un rapport "Rapprocher la Culture et L'Économie Sociale et Solidaire” pour la Fondation Crédit Coopératif\n	\n\n\n \n\nRéservez votre place dès maintenant !\n\n \n\nMODALITÉS PRATIQUES :\n\n\n	\n	Le webinaire démarre à 19h\n	\n	\n	Après inscription, vous recevrez un lien Zoom dans l'heure précédant le débat pour vous connecter au webinaire\n	\n	\n	Il y aura un temps pour poser des questions aux intervenants à la fin du débat\n	\n	\n	Tarif unique à 10€\n	\n\n\n\n\n\n\n\n\n \n\nAu plaisir de vous retrouver en ligne,\n\nL'équipe du Club Culture & Management\n \n\n
BEGIN:VALARM
ACTION:DISPLAY
TRIGGER:-PT60M
DESCRIPTION:Club Culture & Management - Cycle "ESSC économie sociale, solidaire et culturelle"
END:VALARM
END:VEVENT
END:VCALENDAR