BEGIN:VCALENDAR
VERSION:2.0
X-WR-TIMEZONE:Europe/Paris
PRODID:-//Audencia//NONSGML v1.0//EN
CALSCALE:GREGORIAN
BEGIN:VEVENT
SUMMARY:Webinar - Supply Chain Management - Singapore : Asia’s Hub of Choice
DTSTART:20210330T090000
DTEND:20210330T100000
UID:947
DTSTAMP:20260425T210326
LOCATION:
DESCRIPTION:Ranked by the World Bank as Asia’s top logistics hub for 10 years in a row, Singapore offers world-class connectivity to the region and beyond.\n\nJoin our online event co-organised by the Economic Development Board (EDB) to know more about the opportunities that offers Singapore and how companies can use Singapore as a Hub to establish and execute their strategy.\n\nAbout the Speakers : \n\n\n	Mr. Wei Chuen CHUA (EDB), Acting VP and Head, Supply Chain & Connectivity,\n	Mr. Frederic MARCEROU, Managing Director Bollore Singapore,\n	Mr. Gregoire SAUVE, Supply Chain Director, Asia Pacific at LVMH Perfumes & Cosmetics,\n\n\nModerated by Mrs. Carine LESPAYANDEL, Executive director, French Chamber of Commerce in Singapore.\n\nProgramme : \n\n\n	Opening remarks by Mrs. Carine Lespayandel\n	Introduction remarks by Mr. Wei Chuen CHUA (EDB) on Singapore's role as a supply chain and logistics hub, and how Singapore is transforming to support companies’ evolving needs.\n	Discussion between Wei Chuen CHUA (EDB),Frederic Marcerou (Bollore Logistics Singapore) and Gregoire Sauve (LVMH Perfume and Cosmetics) on :\n	\n		Automation & Productivity\n		Workforce upskills & diversity\n		Physical & trade connectivity\n		Sustainability in the supply chain\n	\n	\n	A Q/A session with questions from the Audience\n\n\nTerms & Conditions:\n\n\n	By registering to this Webinar, you agree to receive emails from the French Chamber of commerce in Singapore and from EDB for future invitations to events or market information.\n	You will receive the ZOOM link to access the webinar, 1 day prior to the event.\n\n \n\nRegister here\n\n\n
BEGIN:VALARM
ACTION:DISPLAY
TRIGGER:-PT60M
DESCRIPTION:Webinar - Supply Chain Management - Singapore : Asia’s Hub of Choice
END:VALARM
END:VEVENT
END:VCALENDAR