BEGIN:VCALENDAR
VERSION:2.0
X-WR-TIMEZONE:Europe/Paris
PRODID:-//Audencia//NONSGML v1.0//EN
CALSCALE:GREGORIAN
BEGIN:VEVENT
SUMMARY:Audencia Around the World 2021: the journey continues in Colombia
DTSTART:20210326T140000
DTEND:20210326T150000
UID:946
DTSTAMP:20260425T210610
LOCATION:
DESCRIPTION:Anyone for coffee?\nIt will be 8am in Colombia and 2pm in France, so just the right time for a coffee!\n\nJoin Audencians from Bogotá, Medellín, Cali, Barranquilla and eslewhere, for a chat, a catch-up and a great cup of coffee:\n\nDate: Friday 26 March\nTime: 08:00 in Colombia // 14:00 in France\nVenue: online at wonder.me\n\nTo discover other cities which are hosting an Around the World event, click on the image below\n \n\n\n\n \n\n\nDon't go yet!\nWe have two more messages to share with you:\n\nAudencia Foundation's call for solidarity\n\n\n\n\nNow, more than ever, our international students are in need of critical financial support.\nMake a donation during AATW to help pay living expenses for a struggling student.\nYour donation, in any amount, shows your solidarity with our students who are building the world of tomorrow.\nOur network is our greatest strength!\nFor more information\n\nAround the World photo booth\nDrop by, create your avatar, take your picture, send it/share it, and feature on the group photo that will be published at the end of the event!\nFollow this link\n\n
BEGIN:VALARM
ACTION:DISPLAY
TRIGGER:-PT60M
DESCRIPTION:Audencia Around the World 2021: the journey continues in Colombia
END:VALARM
END:VEVENT
END:VCALENDAR