BEGIN:VCALENDAR
VERSION:2.0
X-WR-TIMEZONE:Europe/Paris
PRODID:-//Audencia//NONSGML v1.0//EN
CALSCALE:GREGORIAN
BEGIN:VEVENT
SUMMARY:Participez au 1er Enac’Talk 2021 sur la mode responsable !
DTSTART:20210325T180000
DTEND:20210325T193000
UID:943
DTSTAMP:20260425T210051
LOCATION:
DESCRIPTION:Le 25 mars prochain, les associations étudiantes Enactus, Junior Entreprise Audencia et Modencia, pôle mode du Bureau des Arts vous invitent au premier Enac’Talk de l’année. La thématique ? Les enjeux de la mode responsable pour les entreprises. \nDécouvrez sans plus attendre les trois intervenants invités…\n\nLe sujet ? Les enjeux de la mode responsable pour les entreprises. Les étudiants s’interrogeront sur les impacts sociaux et environnementaux du secteur et les réponses actuelles et futures apportées par les entreprises.\n\nPour témoigner et éclairer le sujet, trois intervenants seront amenés à exprimer leurs points de vue :\n\n	Josselin Vogel, cofondateur de Viji, une application qui retrace l’histoire des vêtements tant du point de vue social, qu’environnemental et sanitaire !\n	Amandine Hochet, chargée de communication Bocage, une marque française qui conçoit des chaussures pour femmes et hommes.\n	Guillaume Mesly d'Arloz (GE 14), fondateur de Meeko, une marque de sneakers engagées \n\n \n\nInscription >\n\nIls vous attendent nombreux pour cette belle soirée !\n \n\nLes Enac’Talk sont des conférences organisées par l’association étudiante Enactus Audencia. L’association vise la promotion de l’entrepreneuriat social à travers la concrétisation de projets utiles à la population nantaise et l’organisation d’actions de sensibilisation.\n\nConférence organisée par les associations Enactus Audencia, Junior Entreprise Audencia et Modencia, pôle mode du Bureau des Arts.
BEGIN:VALARM
ACTION:DISPLAY
TRIGGER:-PT60M
DESCRIPTION:Participez au 1er Enac’Talk 2021 sur la mode responsable !
END:VALARM
END:VEVENT
END:VCALENDAR