BEGIN:VCALENDAR
VERSION:2.0
X-WR-TIMEZONE:Europe/Paris
PRODID:-//Audencia//NONSGML v1.0//EN
CALSCALE:GREGORIAN
BEGIN:VEVENT
SUMMARY:Audencia Around the World 2021: the journey continues in Dublin
DTSTART:20210330T203000
DTEND:20210330T213000
UID:942
DTSTAMP:20260425T210120
LOCATION:
DESCRIPTION:\n\n\nAudencia Around the World: the journey continues to Dublin\nWhether you're a Dubliner through and through or whether you simply want to find out the secret corners of the city, join alumni in Dublin for a virtual city tour. Register now on Together to be sure you receive the link to the visit.\n\n\n\n	Date: Tuesday 30 March 2021\n	Time: from 19:30 DUBLIN time // 20:30 PARIS time\n	Venue: Online (https://bit.ly/2PbF9xy)\n\n\nTo discover other cities which are hosting an Around the World event, click on the image below\n \n\n\n\n \n\n\nDon't go yet!\nWe have two more messages to share with you:\n\nAudencia Foundation's call for solidarity\n\n\n\n\nNow, more than ever, our international students are in need of critical financial support.\nMake a donation during AATW to help pay living expenses for a struggling student.\nYour donation, in any amount, shows your solidarity with our students who are building the world of tomorrow.\nOur network is our greatest strength!\nFor more information\n\nAround the World photo booth\nDrop by, create your avatar, take your picture, send it/share it, and feature on the group photo that will be published at the end of the event!\nFollow this link\n\n
BEGIN:VALARM
ACTION:DISPLAY
TRIGGER:-PT60M
DESCRIPTION:Audencia Around the World 2021: the journey continues in Dublin
END:VALARM
END:VEVENT
END:VCALENDAR