BEGIN:VCALENDAR
VERSION:2.0
X-WR-TIMEZONE:Europe/Paris
PRODID:-//Audencia//NONSGML v1.0//EN
CALSCALE:GREGORIAN
BEGIN:VEVENT
SUMMARY:Club Audencia Transitions - Pitch & Projets
DTSTART:20210324T183000
DTEND:20210324T200000
UID:941
DTSTAMP:20260425T205904
LOCATION:
DESCRIPTION:Pitch et priorisation de projets pour le 1er semestre\n\nAprès l'engouement de la 1ère réunion, place à l'action !\n\nNous vous invitons mercredi 24 mars prochain à 18h30 pour une heure et demi d'échange et d'écoute.\n\nLes personnes qui souhaitent s'investir dans le club sont conviées à venir présenter un projet qu'elles aimeraient mettre en place (ou à écouter le pitch des personnes qui en ont).\n\nA la suite d'un vote, les actions prioritaires qui seront menées par le club sur les prochains mois seront déterminées.\nLe temps sera alors à la constitution de groupe de travail et d'échange autour de ces projets en petits groupes.\n\nNous vous enverrons le lien le 23/03 par messagerie Together et sur le groupe WhatsApp Audencia Transitions, pour le rejoindre, contactez Nicolas Vergne.\n\nNous vous attendons nombreux et motivés!
BEGIN:VALARM
ACTION:DISPLAY
TRIGGER:-PT60M
DESCRIPTION:Club Audencia Transitions - Pitch & Projets
END:VALARM
END:VEVENT
END:VCALENDAR