BEGIN:VCALENDAR
VERSION:2.0
X-WR-TIMEZONE:Europe/Paris
PRODID:-//Audencia//NONSGML v1.0//EN
CALSCALE:GREGORIAN
BEGIN:VEVENT
SUMMARY:Afterwork à Casablanca, Maroc en présence d'Eric Maton, professeur à Audencia
DTSTART:20170928T190000
DTEND:20170928T220000
UID:94
DTSTAMP:20260425T205816
LOCATION:Le lieu de la rencontre sera confirmé ultérieurement  (cela dépendra du nombre de participants).
DESCRIPTION:Chers tous,\n\nNous vous proposons un afterwork de rentrée post-vacances en présence d'Eric Maton, professeur à Audencia.\n\nCe sera l'occasion de partager un moment convivial et de rencontrer les nouveaux étudiants/alumni présents au Maroc.\nLes +1 sont bien évidemment les bienvenus.\n\nLe lieu de la rencontre vous sera confirmé ultérieurement (cela dépendra du nombre de participants).\n\nMerci de confirmer votre présence à Yassine!\n \nVenez nombreux !
BEGIN:VALARM
ACTION:DISPLAY
TRIGGER:-PT60M
DESCRIPTION:Afterwork à Casablanca, Maroc en présence d'Eric Maton, professeur à Audencia
END:VALARM
END:VEVENT
END:VCALENDAR